BEGIN:VCALENDAR
VERSION:2.0
PRODID:-//Wir für Reppenstedt e.V. - ECPv6.15.20//NONSGML v1.0//EN
CALSCALE:GREGORIAN
METHOD:PUBLISH
X-ORIGINAL-URL:https://wir-fuer-reppenstedt.de
X-WR-CALDESC:Veranstaltungen für Wir für Reppenstedt e.V.
REFRESH-INTERVAL;VALUE=DURATION:PT1H
X-Robots-Tag:noindex
X-PUBLISHED-TTL:PT1H
BEGIN:VTIMEZONE
TZID:Europe/Berlin
BEGIN:DAYLIGHT
TZOFFSETFROM:+0100
TZOFFSETTO:+0200
TZNAME:CEST
DTSTART:20250330T010000
END:DAYLIGHT
BEGIN:STANDARD
TZOFFSETFROM:+0200
TZOFFSETTO:+0100
TZNAME:CET
DTSTART:20251026T010000
END:STANDARD
BEGIN:DAYLIGHT
TZOFFSETFROM:+0100
TZOFFSETTO:+0200
TZNAME:CEST
DTSTART:20260329T010000
END:DAYLIGHT
BEGIN:STANDARD
TZOFFSETFROM:+0200
TZOFFSETTO:+0100
TZNAME:CET
DTSTART:20261025T010000
END:STANDARD
BEGIN:DAYLIGHT
TZOFFSETFROM:+0100
TZOFFSETTO:+0200
TZNAME:CEST
DTSTART:20270328T010000
END:DAYLIGHT
BEGIN:STANDARD
TZOFFSETFROM:+0200
TZOFFSETTO:+0100
TZNAME:CET
DTSTART:20271031T010000
END:STANDARD
END:VTIMEZONE
BEGIN:VEVENT
DTSTART;TZID=Europe/Berlin:20260423T183000
DTEND;TZID=Europe/Berlin:20260423T193000
DTSTAMP:20260419T180326
CREATED:20260305T213134Z
LAST-MODIFIED:20260305T213134Z
UID:5039-1776969000-1776972600@wir-fuer-reppenstedt.de
SUMMARY:Planungstreffen Adventsmarkt | Wir für Reppenstedt | April 2026
DESCRIPTION:Lasst uns zusammenkommen\, um den diesjährigen Adventsmarkt zu planen: \n\nAussteller / Buden identifizieren und auswählen\nNotwendige Vorbereitungen identifizieren\nAufgaben verteilen\n\n  \nDas Vorstandsteam \n– \nGemeinsam geht mehr.
URL:https://wir-fuer-reppenstedt.de/veranstaltung/planungstreffen-adventsmarkt-wir-fuer-reppenstedt-april-2026/
LOCATION:Sitzungssaal im Rathaus (1. OG)\, Dachtmisser Str. 1\, Reppenstedt\, Niedersachsen\, 21391\, Germany
CATEGORIES:Mitgliedsversammlung
ORGANIZER;CN="Wir f%C3%BCr Reppenstedt e.V.":MAILTO:info@wir-fuer-reppenstedt.de
END:VEVENT
BEGIN:VEVENT
DTSTART;TZID=Europe/Berlin:20260604T183000
DTEND;TZID=Europe/Berlin:20260604T200000
DTSTAMP:20260419T180326
CREATED:20260202T202245Z
LAST-MODIFIED:20260304T040527Z
UID:4851-1780597800-1780603200@wir-fuer-reppenstedt.de
SUMMARY:Mitgliederversammlung & Offenes Vereinstreffen | Wir für Reppenstedt | Juni 2026
DESCRIPTION:Wir laden herzlich zur Mitgliederversammlung von Wir für Reppenstedt e.V. ein – und ganz ausdrücklich auch alle Interessierten\, die neugierig auf unseren Verein sind oder sich vorstellen können\, Reppenstedt aktiv mitzugestalten. \nBereits konkrete Inhalte des Treffens: \n\nVorbereitung Büchereifest\n\nNeben den o.g. Punkten der Mitgliederversammlung möchten wir vor allem Raum für Austausch schaffen: \n\nWer sind wir?\nWas haben wir bisher bewegt?\nWelche Ideen gibt es für die Zukunft unseres Ortes?\n\nOb du bereits Mitglied bist\, einfach mal reinschnuppern möchtest oder konkrete Ideen mitbringst – du bist herzlich willkommen! In lockerer Atmosphäre stellen wir unsere Arbeit vor\, kommen ins Gespräch und freuen uns über neue Gesichter. \nKomm vorbei\, lerne uns kennen und entdecke\, wie du dich bei Wir für Reppenstedt e.V. einbringen kannst. \nDas Vorstandsteam \n— \nGemeinsam geht mehr.
URL:https://wir-fuer-reppenstedt.de/veranstaltung/mitgliedsversammlung-offenes-vereinstreffen-06-2026/
LOCATION:Sitzungszimmer im Rathaus (1. OG)\, Dachtmisser Str. 1\, Reppenstedt\, Niedersachsen\, 21391\, Germany
CATEGORIES:Mitgliedsversammlung
ATTACH;FMTTYPE=image/png:https://wir-fuer-reppenstedt.de/wp-content/uploads/2026/02/2026-06-04-WfR-Mitgliederversammlung.png
ORGANIZER;CN="Wir f%C3%BCr Reppenstedt e.V.":MAILTO:info@wir-fuer-reppenstedt.de
END:VEVENT
BEGIN:VEVENT
DTSTART;TZID=Europe/Berlin:20260620T140000
DTEND;TZID=Europe/Berlin:20260620T180000
DTSTAMP:20260419T180326
CREATED:20260128T193722Z
LAST-MODIFIED:20260209T172303Z
UID:4658-1781964000-1781978400@wir-fuer-reppenstedt.de
SUMMARY:50 Jahre Bücherei Reppenstedt: Sommerfest | Juni 2026
DESCRIPTION:Die Bücherei in Reppenstedt wird 50 und feiert!\nWer die Landeszeitung vom 9. Januar 1976 aufmerksam gelesen hatte\, erfuhr von einer Bücherei\, die im damals neuen Verwaltungsgebäude der Samtgemeinde Gellersen eröffnet werden sollte. Ursprünglich war sie in einem 42 m² großen Raum\, der heute als Büro im Rathaus genutzt wird\, untergebracht. Im Angebot befanden sich ausschließlich Bücher. Seit der Eröffnung hat sich viel getan. Mittlerweile sind die Räumlichkeiten der Bücherei auf 240 m² angewachsen und das Angebot hat stetig zugenommen. Neben Büchern werden Zeitschriften\, Hörbücher als CDs\, Tonies und Galakto-Token\, Spiele\, Puzzles\, Spielekisten\, DVDs\, Themenkisten für die Grundschule und ein umfangreiches Repertoire an Onlinemedien angeboten. Außerdem ist die Bücherei heute gesellschaftlicher Treffpunkt\, in dem Veranstaltungen sowohl für Kinder als auch Erwachsene angeboten werden.\n\n\n\n\nAus diesem Anlass findet u.a. ein Sommerfest in und um die Bücherei von 14-18 Uhr statt.
URL:https://wir-fuer-reppenstedt.de/veranstaltung/50-jahre-buecherei-reppenstedt-sommerfest/
LOCATION:Bücherei Reppenstedt\, Dachtmisser Str. 1\, Reppenstedt\, Niedersachsen\, 21391
ATTACH;FMTTYPE=image/jpeg:https://wir-fuer-reppenstedt.de/wp-content/uploads/2026/01/2026-06-20-50-Jahre-Buecherei-Reppenstedt.jpg
END:VEVENT
BEGIN:VEVENT
DTSTART;TZID=Europe/Berlin:20260903T183000
DTEND;TZID=Europe/Berlin:20260903T200000
DTSTAMP:20260419T180326
CREATED:20260202T202522Z
LAST-MODIFIED:20260304T040538Z
UID:4856-1788460200-1788465600@wir-fuer-reppenstedt.de
SUMMARY:Mitgliederversammlung & Offenes Vereinstreffen | Wir für Reppenstedt | September 2026
DESCRIPTION:Wir laden herzlich zur Mitgliederversammlung von Wir für Reppenstedt e.V. ein – und ganz ausdrücklich auch alle Interessierten\, die neugierig auf unseren Verein sind oder sich vorstellen können\, Reppenstedt aktiv mitzugestalten. \nBereits konkrete Inhalte des Treffens: \n\nVorbereitung des Flohmarkts\n\nNeben den o.g. Punkten der Mitgliederversammlung möchten wir vor allem Raum für Austausch schaffen: \n\nWer sind wir?\nWas haben wir bisher bewegt?\nWelche Ideen gibt es für die Zukunft unseres Ortes?\n\nOb du bereits Mitglied bist\, einfach mal reinschnuppern möchtest oder konkrete Ideen mitbringst – du bist herzlich willkommen! In lockerer Atmosphäre stellen wir unsere Arbeit vor\, kommen ins Gespräch und freuen uns über neue Gesichter. \nKomm vorbei\, lerne uns kennen und entdecke\, wie du dich bei Wir für Reppenstedt e.V. einbringen kannst. \nDas Vorstandsteam \n— \nGemeinsam geht mehr.
URL:https://wir-fuer-reppenstedt.de/veranstaltung/mitgliedsversammlung-offenes-vereinstreffen-09-2026/
LOCATION:Sitzungssaal im Rathaus (1. OG)\, Dachtmisser Str. 1\, Reppenstedt\, Niedersachsen\, 21391\, Germany
CATEGORIES:Mitgliedsversammlung
ATTACH;FMTTYPE=image/png:https://wir-fuer-reppenstedt.de/wp-content/uploads/2026/02/2026-09-03-WfR-Mitgliederversammlung.png
ORGANIZER;CN="Wir f%C3%BCr Reppenstedt e.V.":MAILTO:info@wir-fuer-reppenstedt.de
END:VEVENT
BEGIN:VEVENT
DTSTART;TZID=Europe/Berlin:20260920T110000
DTEND;TZID=Europe/Berlin:20260920T150000
DTSTAMP:20260419T180326
CREATED:20260128T192201Z
LAST-MODIFIED:20260305T212819Z
UID:4655-1789902000-1789916400@wir-fuer-reppenstedt.de
SUMMARY:Flohmarkt rund um's Rathaus #7 | September 2026
DESCRIPTION:Unser beliebter Flohmarkt findet auch dieses Jahr wieder statt. Von 11-15 Uhr tummelt sich halb Reppenstedt rund ums Rathaus. \n  \nWir suchen Aussteller:innen\, die ihre Kleidung und andere Second Hand Artikel anbieten wollen. \n\nFür die Stand-Anmeldung klicke hier.\nAufbau: frühestens ab 9:30 Uhr\nAbbau: ab 15:00 Uhr\nHinweis: Bitte parkt keine Autos auf dem Rathausplatz\n\n  \nWir freuen uns auf euch! \nDein Team von Wir für Reppenstedt e.V.
URL:https://wir-fuer-reppenstedt.de/veranstaltung/flohmarkt-september-2026/
LOCATION:Rund ums Rathaus\, Dachtmisser Str. 1\, Reppenstedt\, Niedersachsen\, 21391
CATEGORIES:Flohmarkt
ATTACH;FMTTYPE=image/png:https://wir-fuer-reppenstedt.de/wp-content/uploads/2026/03/2026-09-20-WfR-Flohmarkt-Flyer.png
ORGANIZER;CN="Wir f%C3%BCr Reppenstedt e.V.":MAILTO:info@wir-fuer-reppenstedt.de
END:VEVENT
BEGIN:VEVENT
DTSTART;TZID=Europe/Berlin:20261205T140000
DTEND;TZID=Europe/Berlin:20261205T220000
DTSTAMP:20260419T180326
CREATED:20260304T042852Z
LAST-MODIFIED:20260304T050823Z
UID:5014-1796479200-1796508000@wir-fuer-reppenstedt.de
SUMMARY:Adventsmarkt Reppenstedt #4 | Dezember 2026
DESCRIPTION:Wir laden dich herzlich zum Adventsmarkt Reppenstedt ein! Lass uns zusammen die Vorweihnachtszeit genießen. \nAm Samstag\, 5. Dezember 2026\, in der Zeit von 14:00 bis 22:00 Uhr ist die vierte Auflage des Adventsmarktes auf dem Rathausplatz geplant. Mit zahlreichen Buden\, Weihnachtspunsch\, Handgemachtem und Live-Musik wollen wir in Reppenstedt den Weihnachtszauber einläuten. \nWenn Sie Lust und Interesse haben\, einen Stand zu mieten und Ihre Produkte auf dem Adventsmarkt anzubieten\, dann schreiben Sie uns gerne eine Mail an info@wir-fuer-reppenstedt.de. \n  \nWir freuen uns auf euch! \nDein Team von Wir für Reppenstedt e.V.
URL:https://wir-fuer-reppenstedt.de/veranstaltung/adventsmarkt-reppenstedt-dezember-2026/
LOCATION:Auf dem Rathausplatz\, Dachtmisser Str. 1\, Reppenstedt\, Niedersachsen\, 21391
CATEGORIES:Weihnachtsmarkt
ATTACH;FMTTYPE=image/png:https://wir-fuer-reppenstedt.de/wp-content/uploads/2026/03/2026-12-05-Adventsmarkt-Flyer.png
ORGANIZER;CN="Wir f%C3%BCr Reppenstedt e.V.":MAILTO:info@wir-fuer-reppenstedt.de
END:VEVENT
END:VCALENDAR